BEGIN:VCALENDAR
VERSION:2.0
PRODID:-//Columbus Community Bill of Rights - ECPv6.15.20//NONSGML v1.0//EN
CALSCALE:GREGORIAN
METHOD:PUBLISH
X-ORIGINAL-URL:https://columbusbillofrights.org
X-WR-CALDESC:Events for Columbus Community Bill of Rights
REFRESH-INTERVAL;VALUE=DURATION:PT1H
X-Robots-Tag:noindex
X-PUBLISHED-TTL:PT1H
BEGIN:VTIMEZONE
TZID:America/New_York
BEGIN:DAYLIGHT
TZOFFSETFROM:-0500
TZOFFSETTO:-0400
TZNAME:EDT
DTSTART:20240310T070000
END:DAYLIGHT
BEGIN:STANDARD
TZOFFSETFROM:-0400
TZOFFSETTO:-0500
TZNAME:EST
DTSTART:20241103T060000
END:STANDARD
BEGIN:DAYLIGHT
TZOFFSETFROM:-0500
TZOFFSETTO:-0400
TZNAME:EDT
DTSTART:20250309T070000
END:DAYLIGHT
BEGIN:STANDARD
TZOFFSETFROM:-0400
TZOFFSETTO:-0500
TZNAME:EST
DTSTART:20251102T060000
END:STANDARD
BEGIN:DAYLIGHT
TZOFFSETFROM:-0500
TZOFFSETTO:-0400
TZNAME:EDT
DTSTART:20260308T070000
END:DAYLIGHT
BEGIN:STANDARD
TZOFFSETFROM:-0400
TZOFFSETTO:-0500
TZNAME:EST
DTSTART:20261101T060000
END:STANDARD
END:VTIMEZONE
BEGIN:VEVENT
DTSTART;TZID=America/New_York:20250726T090000
DTEND;TZID=America/New_York:20250726T120000
DTSTAMP:20260423T140014
CREATED:20250705T031019Z
LAST-MODIFIED:20250705T031019Z
UID:10971-1753520400-1753531200@columbusbillofrights.org
SUMMARY:Petitioning Event:  Clintonville Farmers' Market
DESCRIPTION:Come gather signatures at the Clintonville Farmers’ Market on Saturdays.  Click HERE to sign up for today
URL:https://columbusbillofrights.org/event/petitioning-event-clintonville-farmers-market-3/
LOCATION:clintonville farmers market\, N. High & Dunedin Rd\, Clintonville Ohio
CATEGORIES:Petitioning Events
END:VEVENT
BEGIN:VEVENT
DTSTART;TZID=America/New_York:20250719T090000
DTEND;TZID=America/New_York:20250719T120000
DTSTAMP:20260423T140014
CREATED:20250705T030831Z
LAST-MODIFIED:20250705T030831Z
UID:10968-1752915600-1752926400@columbusbillofrights.org
SUMMARY:Petitioning Event:  Clintonville Farmers' Market
DESCRIPTION:Come gather signatures at the Clintonville Farmers’ Market on Saturdays.  Click HERE to sign up for today
URL:https://columbusbillofrights.org/event/petitioning-event-clintonville-farmers-market-2/
LOCATION:clintonville farmers market\, N. High & Dunedin Rd\, Clintonville Ohio
CATEGORIES:Petitioning Events
END:VEVENT
BEGIN:VEVENT
DTSTART;TZID=America/New_York:20250712T090000
DTEND;TZID=America/New_York:20250712T120000
DTSTAMP:20260423T140014
CREATED:20250705T030750Z
LAST-MODIFIED:20250705T030750Z
UID:10966-1752310800-1752321600@columbusbillofrights.org
SUMMARY:Petitioning Event:  Clintonville Farmers' Market
DESCRIPTION:Come gather signatures at the Clintonville Farmers’ Market on Saturdays.  Click HERE to sign up for today
URL:https://columbusbillofrights.org/event/petitioning-event-clintonville-farmers-market/
LOCATION:clintonville farmers market\, N. High & Dunedin Rd\, Clintonville Ohio
CATEGORIES:Petitioning Events
END:VEVENT
BEGIN:VEVENT
DTSTART;TZID=America/New_York:20250705T090000
DTEND;TZID=America/New_York:20250705T120000
DTSTAMP:20260423T140014
CREATED:20250703T022126Z
LAST-MODIFIED:20250703T023929Z
UID:10931-1751706000-1751716800@columbusbillofrights.org
SUMMARY:Petitioning Event:  Clintonville Farmers' Market
DESCRIPTION:Come gather signatures at the Clintonville Farmers’ Market on Saturdays.  Click HERE to sign up for today
URL:https://columbusbillofrights.org/event/petition-at-clintonville-farmers-market/
LOCATION:clintonville farmers market\, N. High & Dunedin Rd\, Clintonville Ohio
CATEGORIES:Petitioning Events
END:VEVENT
BEGIN:VEVENT
DTSTART;TZID=America/New_York:20250704T120000
DTEND;TZID=America/New_York:20250704T160000
DTSTAMP:20260423T140014
CREATED:20250703T223943Z
LAST-MODIFIED:20250703T223943Z
UID:10950-1751630400-1751644800@columbusbillofrights.org
SUMMARY:Petitioning Event: Rally for Democracy
DESCRIPTION:Come and collect signatures for our CCBOR initiative at the All Ohio Protest:  Rally For Democracy \nYou can sign up by clicking HERE if you want to show us that you will participate in collecting our signatures! \nColumbus Community Bill of Rights looks forward to seeing you there!!
URL:https://columbusbillofrights.org/event/petitioning-event-rally-for-democracy/
LOCATION:ohio statehouse\, 1 Capital Square\, COlumbus\, OH\, 43215\, United States
END:VEVENT
END:VCALENDAR